BEGIN:VCALENDAR
VERSION:2.0
PRODID:-//wp-events-plugin.com//7.2.3.1//EN
TZID:Europe/Paris
X-WR-TIMEZONE:Europe/Paris
BEGIN:VEVENT
UID:439@arcpontoise.fr
DTSTART;TZID=Europe/Paris:20240717T130000
DTEND;TZID=Europe/Paris:20240718T200000
DTSTAMP:20240511T123504Z
URL:https://arcpontoise.fr/events/village-olympique/
SUMMARY:[JO] Village Olympique
DESCRIPTION:Village Olympique avec initiation pour centre de loisirs et tou
 t public\, sur la place de l’office de tourisme à Pontoise.
CATEGORIES:Divers
END:VEVENT
BEGIN:VTIMEZONE
TZID:Europe/Paris
X-LIC-LOCATION:Europe/Paris
BEGIN:DAYLIGHT
DTSTART:20240331T030000
TZOFFSETFROM:+0100
TZOFFSETTO:+0200
TZNAME:CEST
END:DAYLIGHT
END:VTIMEZONE
END:VCALENDAR