BEGIN:VCALENDAR
VERSION:2.0
PRODID:-//wp-events-plugin.com//7.2.3.1//EN
TZID:Europe/Paris
X-WR-TIMEZONE:Europe/Paris
BEGIN:VEVENT
UID:429@arcpontoise.fr
DTSTART;TZID=Europe/Paris:20240407T090000
DTEND;TZID=Europe/Paris:20240407T140000
DTSTAMP:20240511T123022Z
URL:https://arcpontoise.fr/events/prix-general-2/
SUMMARY:Prix général
DESCRIPTION:Ouverture du jeu pour le prix général.
CATEGORIES:Tirs traditionnels
LOCATION:Terrain extérieur\, Hall Omnisports Philippe Hémet\, 1 Rue Pierr
 e de Coubertin\, Pontoise\, 95300\, France
GEO:49.045689;2.085298
X-APPLE-STRUCTURED-LOCATION;VALUE=URI;X-ADDRESS=Hall Omnisports Philippe H
 émet\, 1 Rue Pierre de Coubertin\, Pontoise\, 95300\, France;X-APPLE-RADI
 US=100;X-TITLE=Terrain extérieur:geo:49.045689,2.085298
END:VEVENT
BEGIN:VTIMEZONE
TZID:Europe/Paris
X-LIC-LOCATION:Europe/Paris
BEGIN:DAYLIGHT
DTSTART:20240331T030000
TZOFFSETFROM:+0100
TZOFFSETTO:+0200
TZNAME:CEST
END:DAYLIGHT
END:VTIMEZONE
END:VCALENDAR