BEGIN:VCALENDAR
VERSION:2.0
PRODID:-//wp-events-plugin.com//7.2.3.1//EN
TZID:Europe/Paris
X-WR-TIMEZONE:Europe/Paris
BEGIN:VEVENT
UID:441@arcpontoise.fr
DTSTART;TZID=Europe/Paris:20240719T083000
DTEND;TZID=Europe/Paris:20240719T103000
DTSTAMP:20240511T123520Z
URL:https://arcpontoise.fr/events/passage-de-la-flamme-olympique/
SUMMARY:[JO] Passage de la flamme olympique
DESCRIPTION:Passage de la flamme Olympique à Pontoise. Arrivée à 8h30 su
 r la place de l’office du tourisme en aviron.
CATEGORIES:Divers
END:VEVENT
BEGIN:VTIMEZONE
TZID:Europe/Paris
X-LIC-LOCATION:Europe/Paris
BEGIN:DAYLIGHT
DTSTART:20240331T030000
TZOFFSETFROM:+0100
TZOFFSETTO:+0200
TZNAME:CEST
END:DAYLIGHT
END:VTIMEZONE
END:VCALENDAR