BEGIN:VCALENDAR
VERSION:2.0
PRODID:-//wp-events-plugin.com//7.2.3.1//EN
TZID:Europe/Paris
X-WR-TIMEZONE:Europe/Paris
BEGIN:VEVENT
UID:430@arcpontoise.fr
DTSTART;TZID=Europe/Paris;VALUE=DATE:20240525
DTEND;TZID=Europe/Paris;VALUE=DATE:20240526
DTSTAMP:20240508T095126Z
URL:https://arcpontoise.fr/events/journee-des-travaux/
SUMMARY:Journée des travaux
DESCRIPTION:Au programme\, dès 9h et pour la journée :\n\n 	Lasure:\n\n 	
 salle d'armes\n 	gardes du jeu d'arc\n\n\n 	Changement des buttes de stram
 it par des buttes mousses\n 	Diverses tâches pour tout âge\, petits et g
 rands\n\nMerci de noter votre présence sur le tableau à la salle d'armes
 .
CATEGORIES:Divers
LOCATION:Salle d'arme\, Hall Omnisports Philippe Hémet\, 1 Rue Pierre de C
 oubertin\, Pontoise\, 95300\, France
GEO:49.045689;2.085298
X-APPLE-STRUCTURED-LOCATION;VALUE=URI;X-ADDRESS=Hall Omnisports Philippe H
 émet\, 1 Rue Pierre de Coubertin\, Pontoise\, 95300\, France;X-APPLE-RADI
 US=100;X-TITLE=Salle d'arme:geo:49.045689,2.085298
END:VEVENT
BEGIN:VTIMEZONE
TZID:Europe/Paris
X-LIC-LOCATION:Europe/Paris
BEGIN:DAYLIGHT
DTSTART:20240331T030000
TZOFFSETFROM:+0100
TZOFFSETTO:+0200
TZNAME:CEST
END:DAYLIGHT
END:VTIMEZONE
END:VCALENDAR