BEGIN:VCALENDAR
VERSION:2.0
PRODID:-//wp-events-plugin.com//7.2.3.1//EN
TZID:Europe/Paris
X-WR-TIMEZONE:Europe/Paris
BEGIN:VEVENT
UID:1300@arcpontoise.fr
DTSTART;TZID=Europe/Paris:20240928T140000
DTEND;TZID=Europe/Paris:20240928T230000
DTSTAMP:20240828T091141Z
URL:https://arcpontoise.fr/events/journee-des-prix-2024/
SUMMARY:Journée des prix 2024
DESCRIPTION:Programme de la journée :\n\n 	14h : tirs\n 	assemblée géné
 rale et remise des Prix\n 	soirée repas mâchon (chacun apporte un met à
  partager)\n 	tir à la bougie\n\nLes familles sont les bienvenues pour pa
 rtager ce moment festif.\nPrix proposés :\n\n 	Prix de l’Empereur\, Con
 nétable offert par Jean-Pierre BOUFFON\n 	Prix du Roy 2023 offert par Gui
 llaume BARRE\n 	Prix du Capitaine offert par Sandrine KEERSTOCK\n 	Prix du
  Roitelet offert par Pierre-André KUNTZMANN\n 	Prix du petit Prince offer
 t par Aryana LOPEZ\n 	Challenge ERIC DE MARTIMPREY - Challenge CLAUDE ANCE
 LOT\n 	Prix des 40 ans de Compagnie par Christian PERONNET\n 	Prix des 40 
 ans de Compagnie par Patricia et Claude WILLEMS\n
CATEGORIES:Tirs traditionnels
END:VEVENT
BEGIN:VTIMEZONE
TZID:Europe/Paris
X-LIC-LOCATION:Europe/Paris
BEGIN:DAYLIGHT
DTSTART:20240331T030000
TZOFFSETFROM:+0100
TZOFFSETTO:+0200
TZNAME:CEST
END:DAYLIGHT
END:VTIMEZONE
END:VCALENDAR