BEGIN:VCALENDAR
VERSION:2.0
PRODID:-//wp-events-plugin.com//7.2.3.1//EN
TZID:Europe/Paris
X-WR-TIMEZONE:Europe/Paris
BEGIN:VEVENT
UID:226@arcpontoise.fr
DTSTART;TZID=Europe/Paris:20240103T190000
DTEND;TZID=Europe/Paris:20240103T213000
DTSTAMP:20240215T075943Z
URL:https://arcpontoise.fr/events/jeunes-confirmes-et-competiteurs-2024-01
 -03/
SUMMARY:Jeunes confirmés et compétiteurs
DESCRIPTION:Entraîneurs\n[tlpteam id="1010" title="Christian PERONNET"]\n[
 tlpteam id="788" title="Laurent DUFOURT"]\nAccompagnés par\n\n 	Laurence 
 FONTAINE\n\n[tlpteam id="790" title="Sandrine KEERSTOCK"]\n[tlpteam id="79
 2" title="Guillaume BARRÉ"]\n[tlpteam id="1012" title="Samy BENSALEM"]
CATEGORIES:Entraînements
LOCATION:Gymnase Marie Laurencin\, Gymnase rue henri dunant\, Pontoise\, 95
 300\, France
GEO:49.056595;2.088224
X-APPLE-STRUCTURED-LOCATION;VALUE=URI;X-ADDRESS=Gymnase rue henri dunant\, 
 Pontoise\, 95300\, France;X-APPLE-RADIUS=100;X-TITLE=Gymnase Marie Laurenc
 in:geo:49.056595,2.088224
END:VEVENT
BEGIN:VTIMEZONE
TZID:Europe/Paris
X-LIC-LOCATION:Europe/Paris
BEGIN:STANDARD
DTSTART:20231029T020000
TZOFFSETFROM:+0200
TZOFFSETTO:+0100
TZNAME:CET
END:STANDARD
END:VTIMEZONE
END:VCALENDAR