BEGIN:VCALENDAR
VERSION:2.0
PRODID:-//wp-events-plugin.com//7.2.3.1//EN
TZID:Europe/Paris
X-WR-TIMEZONE:Europe/Paris
BEGIN:VEVENT
UID:332@arcpontoise.fr
DTSTART;TZID=Europe/Paris:20240601T140000
DTEND;TZID=Europe/Paris:20240601T170000
DTSTAMP:20231117T110317Z
URL:https://arcpontoise.fr/events/jeunes-confirmes-et-competiteurs-2-2024-
 06-01/
SUMMARY:Jeunes confirmés et compétiteurs
DESCRIPTION:Entraîneur\n\n 	Christian PERONNET\n\nAccompagné si besoin pa
 r :\n\n 	Laurent DUFOUR\n 	Sandrine KEERSTOCK\n 	Laurence FONTAINE\n 	Samy
  BENSALEM\n 	Guillaume BARRÉ\n\n
CATEGORIES:Entraînements
LOCATION:Terrain extérieur\, Hall Omnisports Philippe Hémet\, 1 Rue Pierr
 e de Coubertin\, Pontoise\, 95300\, France
GEO:49.045689;2.085298
X-APPLE-STRUCTURED-LOCATION;VALUE=URI;X-ADDRESS=Hall Omnisports Philippe H
 émet\, 1 Rue Pierre de Coubertin\, Pontoise\, 95300\, France;X-APPLE-RADI
 US=100;X-TITLE=Terrain extérieur:geo:49.045689,2.085298
END:VEVENT
BEGIN:VTIMEZONE
TZID:Europe/Paris
X-LIC-LOCATION:Europe/Paris
BEGIN:DAYLIGHT
DTSTART:20240331T030000
TZOFFSETFROM:+0100
TZOFFSETTO:+0200
TZNAME:CEST
END:DAYLIGHT
END:VTIMEZONE
END:VCALENDAR