BEGIN:VCALENDAR
VERSION:2.0
PRODID:-//wp-events-plugin.com//7.2.3.1//EN
TZID:Europe/Paris
X-WR-TIMEZONE:Europe/Paris
BEGIN:VEVENT
UID:1299@arcpontoise.fr
DTSTART;TZID=Europe/Paris:20240907T100000
DTEND;TZID=Europe/Paris:20240907T180000
DTSTAMP:20240828T091201Z
URL:https://arcpontoise.fr/events/forum-des-associations-2024/
SUMMARY:Forum des associations 2024
DESCRIPTION:Inscriptions pour la saison 2025. Possibilité d'initiation sur
  présentation d'un ticket.\n\nNouveauté pour le groupe des jeunes début
 ants : une séance d’entraînement complète sera faite pour permettre a
 ux entraîneurs de valider les inscriptions.
CATEGORIES:Divers
LOCATION:Hall Omnisport\, Hall Omnisports Philippe Hémet\, 1 Rue Pierre de
  Coubertin\, Pontoise\, 95300\, France
GEO:49.045689;2.085298
X-APPLE-STRUCTURED-LOCATION;VALUE=URI;X-ADDRESS=Hall Omnisports Philippe H
 émet\, 1 Rue Pierre de Coubertin\, Pontoise\, 95300\, France;X-APPLE-RADI
 US=100;X-TITLE=Hall Omnisport:geo:49.045689,2.085298
END:VEVENT
BEGIN:VTIMEZONE
TZID:Europe/Paris
X-LIC-LOCATION:Europe/Paris
BEGIN:DAYLIGHT
DTSTART:20240331T030000
TZOFFSETFROM:+0100
TZOFFSETTO:+0200
TZNAME:CEST
END:DAYLIGHT
END:VTIMEZONE
END:VCALENDAR