BEGIN:VCALENDAR
VERSION:2.0
PRODID:-//wp-events-plugin.com//7.2.3.1//EN
TZID:Europe/Paris
X-WR-TIMEZONE:Europe/Paris
BEGIN:VEVENT
UID:438@arcpontoise.fr
DTSTART;TZID=Europe/Paris;VALUE=DATE:20240523
DTEND;TZID=Europe/Paris;VALUE=DATE:20240524
DTSTAMP:20240511T123450Z
URL:https://arcpontoise.fr/events/faites-du-sport/
SUMMARY:[JO] Faites du sport
DESCRIPTION:Faites du sport au skate parc devant l’hôpital de Pontoise.
CATEGORIES:Divers
END:VEVENT
BEGIN:VTIMEZONE
TZID:Europe/Paris
X-LIC-LOCATION:Europe/Paris
BEGIN:DAYLIGHT
DTSTART:20240331T030000
TZOFFSETFROM:+0100
TZOFFSETTO:+0200
TZNAME:CEST
END:DAYLIGHT
END:VTIMEZONE
END:VCALENDAR