BEGIN:VCALENDAR
VERSION:2.0
PRODID:-//wp-events-plugin.com//7.2.3.1//EN
TZID:Europe/Paris
X-WR-TIMEZONE:Europe/Paris
BEGIN:VEVENT
UID:381@arcpontoise.fr
DTSTART;TZID=Europe/Paris;VALUE=DATE:20231125
DTEND;TZID=Europe/Paris;VALUE=DATE:20231127
DTSTAMP:20231118T114432Z
URL:https://arcpontoise.fr/events/concours-salle-2023/
SUMMARY:Concours Salle 2023
DESCRIPTION:Voir l'article détaillé.\n\nToutes les informations sont éga
 lement disponibles sur le mandat.
CATEGORIES:Concours
LOCATION:Hall Omnisport\, Hall Omnisports Philippe Hémet\, 1 Rue Pierre de
  Coubertin\, Pontoise\, 95300\, France
GEO:49.045689;2.085298
X-APPLE-STRUCTURED-LOCATION;VALUE=URI;X-ADDRESS=Hall Omnisports Philippe H
 émet\, 1 Rue Pierre de Coubertin\, Pontoise\, 95300\, France;X-APPLE-RADI
 US=100;X-TITLE=Hall Omnisport:geo:49.045689,2.085298
END:VEVENT
BEGIN:VTIMEZONE
TZID:Europe/Paris
X-LIC-LOCATION:Europe/Paris
BEGIN:STANDARD
DTSTART:20231029T020000
TZOFFSETFROM:+0200
TZOFFSETTO:+0100
TZNAME:CET
END:STANDARD
END:VTIMEZONE
END:VCALENDAR