BEGIN:VCALENDAR
VERSION:2.0
PRODID:-//wp-events-plugin.com//7.2.3.1//EN
TZID:Europe/Paris
X-WR-TIMEZONE:Europe/Paris
BEGIN:VEVENT
UID:291@arcpontoise.fr
DTSTART;TZID=Europe/Paris:20240614T180000
DTEND;TZID=Europe/Paris:20240614T200000
DTSTAMP:20231117T110256Z
URL:https://arcpontoise.fr/events/adultes-debutants-et-perfectionnement-20
 24-06-14/
SUMMARY:Adultes débutants et perfectionnement
DESCRIPTION:Entraîneurs\n\n 	Ludovic DARRAS\n 	Emmanuel THON\n
CATEGORIES:Entraînements
LOCATION:Salle d'arme\, Hall Omnisports Philippe Hémet\, 1 Rue Pierre de C
 oubertin\, Pontoise\, 95300\, France
GEO:49.045689;2.085298
X-APPLE-STRUCTURED-LOCATION;VALUE=URI;X-ADDRESS=Hall Omnisports Philippe H
 émet\, 1 Rue Pierre de Coubertin\, Pontoise\, 95300\, France;X-APPLE-RADI
 US=100;X-TITLE=Salle d'arme:geo:49.045689,2.085298
END:VEVENT
BEGIN:VTIMEZONE
TZID:Europe/Paris
X-LIC-LOCATION:Europe/Paris
BEGIN:DAYLIGHT
DTSTART:20240331T030000
TZOFFSETFROM:+0100
TZOFFSETTO:+0200
TZNAME:CEST
END:DAYLIGHT
END:VTIMEZONE
END:VCALENDAR