BEGIN:VCALENDAR
VERSION:2.0
PRODID:-//wp-events-plugin.com//7.2.3.1//EN
TZID:Europe/Paris
X-WR-TIMEZONE:Europe/Paris
BEGIN:VEVENT
UID:7@arcpontoise.fr
DTSTART;TZID=Europe/Paris:20231016T193000
DTEND;TZID=Europe/Paris:20231016T220000
DTSTAMP:20240215T075607Z
URL:https://arcpontoise.fr/events/adultes-debutants-et-confirmes-2023-10-1
 6/
SUMMARY:Adultes débutants et confirmés
DESCRIPTION:Entraîneurs\n[tlpteam id="794" title="Sylvie MOREAU"]\n[tlptea
 m id="795" title="Alain MOREAU"]\nAccompagné par\n[tlpteam id="1009" titl
 e="Julien MOREAU"]
CATEGORIES:Entraînements
LOCATION:Salle d'arme\, Hall Omnisports Philippe Hémet\, 1 Rue Pierre de C
 oubertin\, Pontoise\, 95300\, France
GEO:49.045689;2.085298
X-APPLE-STRUCTURED-LOCATION;VALUE=URI;X-ADDRESS=Hall Omnisports Philippe H
 émet\, 1 Rue Pierre de Coubertin\, Pontoise\, 95300\, France;X-APPLE-RADI
 US=100;X-TITLE=Salle d'arme:geo:49.045689,2.085298
END:VEVENT
BEGIN:VTIMEZONE
TZID:Europe/Paris
X-LIC-LOCATION:Europe/Paris
BEGIN:DAYLIGHT
DTSTART:20230326T030000
TZOFFSETFROM:+0100
TZOFFSETTO:+0200
TZNAME:CEST
END:DAYLIGHT
END:VTIMEZONE
END:VCALENDAR